BEGIN:VCALENDAR
VERSION:2.0
PRODID:-//eventon.com NONSGML v1.0//EN
CALSCALE:GREGORIAN
METHOD:PUBLISH
BEGIN:VEVENT
UID:69e8ee23b1060
DTSTAMP:20260422T154955Z
DTSTART:20260201
DTEND:20260301
LOCATION:
SUMMARY:LA LEYENDA DEL TITANIC LLEGA A VALENCIA
DESCRIPTION:La mayor exposición sobre el Titanic vista hasta la fecha en l
 a ciudad ya está en📍 Bombas Gens Centre d’Arts Digitals Prepárate pa
 ra un viaje inmersivo de 90 minutos que te llevará desde la salida del mí
 tico transatlántico en 1912… hasta su inolvidable desenlace. 🌊 Histor
 ia + tecnología + emoción[..]\nhttps://ruzafanoche.com/events/la-leyenda-
 del-titanic-llega-a-valencia/
URL:https://ruzafanoche.com/events/la-leyenda-del-titanic-llega-a-valencia/
END:VEVENT
END:VCALENDAR