BEGIN:VCALENDAR
VERSION:2.0
PRODID:-//eventon.com NONSGML v1.0//EN
CALSCALE:GREGORIAN
METHOD:PUBLISH
BEGIN:VEVENT
UID:69e8e8ddced2a
DTSTAMP:20260422T152725Z
DTSTART:20260522
DTEND:20260523
LOCATION:
SUMMARY:DELESTE FESTIVAL 2026 — El festival que Valencia se merece vuelve a los Jardins de Vivers
DESCRIPTION:Amigos de Ruzafa\,  ya sabéis que desde aquí no solo os conta
 mos lo que pasa en el barrio\,  sino todo aquello que merece que os pongái
 s las zapatillas y crucéis Valencia de punta a punta. Y esto lo merece. El
  Deleste Festival cumple su 14ª edición y\,  como cada año\, [..]\nhttps
 ://ruzafanoche.com/events/deleste-festival-2026-el-festival-que-valencia-se
 -merece-vuelve-a-los-jardins-de-vivers/
URL:https://ruzafanoche.com/events/deleste-festival-2026-el-festival-que-valencia-se-merece-vuelve-a-los-jardins-de-vivers/
END:VEVENT
END:VCALENDAR